BEGIN:VCALENDAR
VERSION:2.0
PRODID:-//HDB Schopfloch - ECPv6.15.20//NONSGML v1.0//EN
CALSCALE:GREGORIAN
METHOD:PUBLISH
X-WR-CALNAME:HDB Schopfloch
X-ORIGINAL-URL:https://hdb-schopfloch.de
X-WR-CALDESC:Veranstaltungen für HDB Schopfloch
REFRESH-INTERVAL;VALUE=DURATION:PT1H
X-Robots-Tag:noindex
X-PUBLISHED-TTL:PT1H
BEGIN:VTIMEZONE
TZID:Europe/Paris
BEGIN:DAYLIGHT
TZOFFSETFROM:+0100
TZOFFSETTO:+0200
TZNAME:CEST
DTSTART:20250330T010000
END:DAYLIGHT
BEGIN:STANDARD
TZOFFSETFROM:+0200
TZOFFSETTO:+0100
TZNAME:CET
DTSTART:20251026T010000
END:STANDARD
BEGIN:DAYLIGHT
TZOFFSETFROM:+0100
TZOFFSETTO:+0200
TZNAME:CEST
DTSTART:20260329T010000
END:DAYLIGHT
BEGIN:STANDARD
TZOFFSETFROM:+0200
TZOFFSETTO:+0100
TZNAME:CET
DTSTART:20261025T010000
END:STANDARD
BEGIN:DAYLIGHT
TZOFFSETFROM:+0100
TZOFFSETTO:+0200
TZNAME:CEST
DTSTART:20270328T010000
END:DAYLIGHT
BEGIN:STANDARD
TZOFFSETFROM:+0200
TZOFFSETTO:+0100
TZNAME:CET
DTSTART:20271031T010000
END:STANDARD
END:VTIMEZONE
BEGIN:VEVENT
DTSTART;VALUE=DATE:20260501
DTEND;VALUE=DATE:20260502
DTSTAMP:20260424T104627
CREATED:20260126T095035Z
LAST-MODIFIED:20260126T095035Z
UID:1718-1777593600-1777679999@hdb-schopfloch.de
SUMMARY:Maibaum aufstellen
DESCRIPTION:
URL:https://hdb-schopfloch.de/event/maibaum-aufstellen-2/
END:VEVENT
BEGIN:VEVENT
DTSTART;VALUE=DATE:20260606
DTEND;VALUE=DATE:20260607
DTSTAMP:20260424T104627
CREATED:20260126T095057Z
LAST-MODIFIED:20260126T095057Z
UID:1720-1780704000-1780790399@hdb-schopfloch.de
SUMMARY:Picknick im Park
DESCRIPTION:
URL:https://hdb-schopfloch.de/event/picknick-im-park/
END:VEVENT
BEGIN:VEVENT
DTSTART;VALUE=DATE:20260705
DTEND;VALUE=DATE:20260706
DTSTAMP:20260424T104627
CREATED:20260126T095129Z
LAST-MODIFIED:20260209T142002Z
UID:1722-1783209600-1783295999@hdb-schopfloch.de
SUMMARY:Flohmarkt rund ums/im Haus
DESCRIPTION:
URL:https://hdb-schopfloch.de/event/kirchweih-mit-schlachtschuessel/
END:VEVENT
BEGIN:VEVENT
DTSTART;VALUE=DATE:20260829
DTEND;VALUE=DATE:20260830
DTSTAMP:20260424T104627
CREATED:20260126T095156Z
LAST-MODIFIED:20260126T095156Z
UID:1724-1787961600-1788047999@hdb-schopfloch.de
SUMMARY:Sommerfest 2026
DESCRIPTION:
URL:https://hdb-schopfloch.de/event/sommerfest-2026/
END:VEVENT
BEGIN:VEVENT
DTSTART;VALUE=DATE:20260922
DTEND;VALUE=DATE:20260923
DTSTAMP:20260424T104627
CREATED:20260126T095236Z
LAST-MODIFIED:20260126T095236Z
UID:1726-1790035200-1790121599@hdb-schopfloch.de
SUMMARY:Herbstfest 2026
DESCRIPTION:
URL:https://hdb-schopfloch.de/event/herbstfest-2026/
END:VEVENT
BEGIN:VEVENT
DTSTART;VALUE=DATE:20261017
DTEND;VALUE=DATE:20261018
DTSTAMP:20260424T104627
CREATED:20260126T095303Z
LAST-MODIFIED:20260126T095303Z
UID:1728-1792195200-1792281599@hdb-schopfloch.de
SUMMARY:Oktoberfest 2026
DESCRIPTION:
URL:https://hdb-schopfloch.de/event/oktoberfest-2026/
END:VEVENT
BEGIN:VEVENT
DTSTART;VALUE=DATE:20261129
DTEND;VALUE=DATE:20261130
DTSTAMP:20260424T104627
CREATED:20260126T095327Z
LAST-MODIFIED:20260126T095327Z
UID:1730-1795910400-1795996799@hdb-schopfloch.de
SUMMARY:Adventsfest
DESCRIPTION:
URL:https://hdb-schopfloch.de/event/adventsfest/
END:VEVENT
BEGIN:VEVENT
DTSTART;VALUE=DATE:20261223
DTEND;VALUE=DATE:20261224
DTSTAMP:20260424T104627
CREATED:20260126T095353Z
LAST-MODIFIED:20260126T095353Z
UID:1732-1797984000-1798070399@hdb-schopfloch.de
SUMMARY:Weihnachtsfeier
DESCRIPTION:
URL:https://hdb-schopfloch.de/event/weihnachtsfeier-2/
END:VEVENT
END:VCALENDAR